git_url: https://git.bioconductor.org/packages/ExCluster git_branch: RELEASE_3_13 git_last_commit: e1c1647 git_last_commit_date: 2021-05-19 12:38:14 -0400 (Wed, 19 May 2021) Package: ExCluster Version: 1.10.0 Maintainer: R. Matthew Tanner MaintainerEmail: rtann038 at uottawa.ca