git_url: https://git.bioconductor.org/packages/EasyqpcR git_branch: RELEASE_3_13 git_last_commit: c1f4741 git_last_commit_date: 2021-05-19 11:53:31 -0400 (Wed, 19 May 2021) Package: EasyqpcR Version: 1.34.0 Maintainer: Le Pape Sylvain MaintainerEmail: sylvain.le.pape at univ-poitiers.fr