git_url: https://git.bioconductor.org/packages/ERSSA git_branch: RELEASE_3_13 git_last_commit: cdcef91 git_last_commit_date: 2021-05-19 12:38:01 -0400 (Wed, 19 May 2021) Package: ERSSA Version: 1.10.0 Maintainer: Zixuan Shao MaintainerEmail: Zixuanshao.zach at gmail.com