Package: ENCODExplorer Version: 2.18.0 Command: /Library/Frameworks/R.framework/Versions/Current/Resources/bin/R CMD check --install=check:ENCODExplorer.install-out.txt --library=/Library/Frameworks/R.framework/Versions/Current/Resources/library --no-vignettes --timings ENCODExplorer_2.18.0.tar.gz StartedAt: 2021-10-14 18:42:32 -0400 (Thu, 14 Oct 2021) EndedAt: 2021-10-14 18:52:26 -0400 (Thu, 14 Oct 2021) EllapsedTime: 593.7 seconds RetCode: 1 Status: ERROR CheckDir: ENCODExplorer.Rcheck Warnings: NA