Package: EMDomics Version: 2.22.0 Command: C:\cygwin\bin\curl.exe -O http://155.52.207.165/BBS/3.13/bioc/src/contrib/EMDomics_2.22.0.tar.gz && rm -rf EMDomics.buildbin-libdir && mkdir EMDomics.buildbin-libdir && C:\Users\biocbuild\bbs-3.13-bioc\R\bin\R.exe CMD INSTALL --merge-multiarch --build --library=EMDomics.buildbin-libdir EMDomics_2.22.0.tar.gz && C:\Users\biocbuild\bbs-3.13-bioc\R\bin\R.exe CMD INSTALL EMDomics_2.22.0.zip && rm EMDomics_2.22.0.tar.gz EMDomics_2.22.0.zip StartedAt: 2021-10-14 08:24:27 -0400 (Thu, 14 Oct 2021) EndedAt: 2021-10-14 08:25:36 -0400 (Thu, 14 Oct 2021) EllapsedTime: 69.0 seconds RetCode: 0 Status: OK