Package: EMDomics Version: 2.22.0 Command: rm -rf EMDomics.buildbin-libdir && mkdir EMDomics.buildbin-libdir && /Users/biocbuild/BBS/utils/build-universal.sh EMDomics_2.22.0.tar.gz /Library/Frameworks/R.framework/Versions/Current/Resources/bin/R EMDomics.buildbin-libdir StartedAt: 2021-10-15 02:18:01 -0400 (Fri, 15 Oct 2021) EndedAt: 2021-10-15 02:19:08 -0400 (Fri, 15 Oct 2021) EllapsedTime: 67.2 seconds RetCode: 0 Status: OK PackageFile: EMDomics_2.22.0.tgz PackageFileSize: 339.3 KiB