Package: ELBOW Version: 1.28.0 Command: chmod a+r ELBOW -R && C:\Users\biocbuild\bbs-3.13-bioc\R\bin\R.exe CMD build --keep-empty-dirs --no-resave-data ELBOW StartedAt: 2021-10-14 13:40:15 -0400 (Thu, 14 Oct 2021) EndedAt: 2021-10-14 13:40:34 -0400 (Thu, 14 Oct 2021) EllapsedTime: 19.3 seconds RetCode: 1 Status: ERROR PackageFile: None PackageFileSize: NA