git_url: https://git.bioconductor.org/packages/EGAD git_branch: RELEASE_3_13 git_last_commit: 948910f git_last_commit_date: 2021-05-19 12:20:29 -0400 (Wed, 19 May 2021) Package: EGAD Version: 1.20.0 Maintainer: Sara Ballouz MaintainerEmail: sarahballouz at gmail.com