Package: EDDA Version: 1.30.0 Command: C:\cygwin\bin\curl.exe -O http://155.52.207.165/BBS/3.13/bioc/src/contrib/EDDA_1.30.0.tar.gz && rm -rf EDDA.buildbin-libdir && mkdir EDDA.buildbin-libdir && C:\Users\biocbuild\bbs-3.13-bioc\R\bin\R.exe CMD INSTALL --merge-multiarch --build --library=EDDA.buildbin-libdir EDDA_1.30.0.tar.gz && C:\Users\biocbuild\bbs-3.13-bioc\R\bin\R.exe CMD INSTALL EDDA_1.30.0.zip && rm EDDA_1.30.0.tar.gz EDDA_1.30.0.zip StartedAt: 2021-10-14 11:29:17 -0400 (Thu, 14 Oct 2021) EndedAt: 2021-10-14 11:29:19 -0400 (Thu, 14 Oct 2021) EllapsedTime: 2.1 seconds RetCode: 1 Status: ERROR