############################################################################## ############################################################################## ### ### Running command: ### ### C:\cygwin\bin\curl.exe -O http://155.52.207.165/BBS/3.13/bioc/src/contrib/EDDA_1.30.0.tar.gz && rm -rf EDDA.buildbin-libdir && mkdir EDDA.buildbin-libdir && C:\Users\biocbuild\bbs-3.13-bioc\R\bin\R.exe CMD INSTALL --merge-multiarch --build --library=EDDA.buildbin-libdir EDDA_1.30.0.tar.gz && C:\Users\biocbuild\bbs-3.13-bioc\R\bin\R.exe CMD INSTALL EDDA_1.30.0.zip && rm EDDA_1.30.0.tar.gz EDDA_1.30.0.zip ### ############################################################################## ############################################################################## % Total % Received % Xferd Average Speed Time Time Time Current Dload Upload Total Spent Left Speed 0 0 0 0 0 0 0 0 --:--:-- --:--:-- --:--:-- 0 44 1791k 44 794k 0 0 1518k 0 0:00:01 --:--:-- 0:00:01 1517k 100 1791k 100 1791k 0 0 2275k 0 --:--:-- --:--:-- --:--:-- 2276k install for i386 ERROR: dependency 'DESeq' is not available for package 'EDDA' * removing 'C:/Users/biocbuild/bbs-3.13-bioc/meat/EDDA.buildbin-libdir/EDDA'