Package: EDDA Version: 1.30.0 Command: chmod a+r EDDA -R && C:\Users\biocbuild\bbs-3.13-bioc\R\bin\R.exe CMD build --keep-empty-dirs --no-resave-data EDDA StartedAt: 2021-10-14 13:38:46 -0400 (Thu, 14 Oct 2021) EndedAt: 2021-10-14 13:39:11 -0400 (Thu, 14 Oct 2021) EllapsedTime: 25.0 seconds RetCode: 1 Status: ERROR PackageFile: EDDA_1.30.0.tar.gz PackageFileSize: 1.749 MiB