Package: EDDA Version: 1.30.0 Command: /home/biocbuild/bbs-3.13-bioc/R/bin/R CMD INSTALL EDDA StartedAt: 2021-10-14 06:38:38 -0400 (Thu, 14 Oct 2021) EndedAt: 2021-10-14 06:38:38 -0400 (Thu, 14 Oct 2021) EllapsedTime: 0.3 seconds RetCode: 1 Status: ERROR