Package: EDDA Version: 1.30.0 Command: /Library/Frameworks/R.framework/Versions/Current/Resources/bin/R CMD INSTALL EDDA StartedAt: 2021-10-14 10:29:27 -0400 (Thu, 14 Oct 2021) EndedAt: 2021-10-14 10:29:28 -0400 (Thu, 14 Oct 2021) EllapsedTime: 0.5 seconds RetCode: 1 Status: ERROR