git_url: https://git.bioconductor.org/packages/EDDA git_branch: RELEASE_3_13 git_last_commit: 86026fb git_last_commit_date: 2021-05-19 12:03:09 -0400 (Wed, 19 May 2021) Package: EDDA Version: 1.30.0 Maintainer: Chia Kuan Hui Burton , Niranjan Nagarajan MaintainerEmail: nagarajann at gis.a-star.edu.sg