Package: EDASeq Version: 2.26.1 Command: /home/biocbuild/bbs-3.13-bioc/R/bin/R CMD check --install=check:EDASeq.install-out.txt --library=/home/biocbuild/bbs-3.13-bioc/R/library --no-vignettes --timings EDASeq_2.26.1.tar.gz StartedAt: 2021-10-14 09:41:53 -0400 (Thu, 14 Oct 2021) EndedAt: 2021-10-14 09:45:43 -0400 (Thu, 14 Oct 2021) EllapsedTime: 229.7 seconds RetCode: 0 Status: OK CheckDir: EDASeq.Rcheck Warnings: 0