Package: EDASeq Version: 2.26.1 Command: /Library/Frameworks/R.framework/Versions/Current/Resources/bin/R CMD INSTALL EDASeq StartedAt: 2021-10-14 09:52:59 -0400 (Thu, 14 Oct 2021) EndedAt: 2021-10-14 09:53:44 -0400 (Thu, 14 Oct 2021) EllapsedTime: 44.8 seconds RetCode: 0 Status: OK