Package: EDASeq Version: 2.26.1 Command: /Library/Frameworks/R.framework/Versions/Current/Resources/bin/R CMD build --keep-empty-dirs --no-resave-data EDASeq StartedAt: 2021-10-14 11:51:19 -0400 (Thu, 14 Oct 2021) EndedAt: 2021-10-14 11:52:39 -0400 (Thu, 14 Oct 2021) EllapsedTime: 80.1 seconds RetCode: 0 Status: OK PackageFile: EDASeq_2.26.1.tar.gz PackageFileSize: 1004 KiB