Package: EBSeq Version: 1.32.0 Command: /home/biocbuild/bbs-3.13-bioc/R/bin/R CMD INSTALL EBSeq StartedAt: 2021-10-14 06:10:45 -0400 (Thu, 14 Oct 2021) EndedAt: 2021-10-14 06:10:52 -0400 (Thu, 14 Oct 2021) EllapsedTime: 7.1 seconds RetCode: 0 Status: OK