Package: EBSEA Version: 1.20.0 Command: rm -rf EBSEA.buildbin-libdir && mkdir EBSEA.buildbin-libdir && C:\Users\biocbuild\bbs-3.13-bioc\R\bin\R.exe CMD INSTALL --merge-multiarch --build --library=EBSEA.buildbin-libdir EBSEA_1.20.0.tar.gz StartedAt: 2021-10-15 09:05:59 -0400 (Fri, 15 Oct 2021) EndedAt: 2021-10-15 09:07:36 -0400 (Fri, 15 Oct 2021) EllapsedTime: 97.1 seconds RetCode: 0 Status: OK PackageFile: EBSEA_1.20.0.zip PackageFileSize: 60.63 KiB