Package: EBImage Version: 4.34.0 Command: chmod a+r EBImage -R && C:\Users\biocbuild\bbs-3.13-bioc\R\bin\R.exe CMD build --keep-empty-dirs --no-resave-data EBImage StartedAt: 2021-10-14 13:37:34 -0400 (Thu, 14 Oct 2021) EndedAt: 2021-10-14 13:38:54 -0400 (Thu, 14 Oct 2021) EllapsedTime: 80.5 seconds RetCode: 0 Status: OK PackageFile: EBImage_4.34.0.tar.gz PackageFileSize: 5.19 MiB