Package: EBImage Version: 4.34.0 Command: rm -rf EBImage.buildbin-libdir && mkdir EBImage.buildbin-libdir && C:\Users\biocbuild\bbs-3.13-bioc\R\bin\R.exe CMD INSTALL --merge-multiarch --build --library=EBImage.buildbin-libdir EBImage_4.34.0.tar.gz StartedAt: 2021-10-15 09:05:49 -0400 (Fri, 15 Oct 2021) EndedAt: 2021-10-15 09:07:27 -0400 (Fri, 15 Oct 2021) EllapsedTime: 97.9 seconds RetCode: 0 Status: OK PackageFile: EBImage_4.34.0.zip PackageFileSize: 6.243 MiB