Package: EBImage Version: 4.34.0 Command: /home/biocbuild/bbs-3.13-bioc/R/bin/R CMD check --install=check:EBImage.install-out.txt --library=/home/biocbuild/bbs-3.13-bioc/R/library --no-vignettes --timings EBImage_4.34.0.tar.gz StartedAt: 2021-10-14 09:41:27 -0400 (Thu, 14 Oct 2021) EndedAt: 2021-10-14 09:43:36 -0400 (Thu, 14 Oct 2021) EllapsedTime: 129.1 seconds RetCode: 0 Status: OK CheckDir: EBImage.Rcheck Warnings: 0