git_url: https://git.bioconductor.org/packages/EBImage git_branch: RELEASE_3_13 git_last_commit: b4e3a23 git_last_commit_date: 2021-05-19 11:37:13 -0400 (Wed, 19 May 2021) Package: EBImage Version: 4.34.0 Maintainer: Andrzej OleÅ› MaintainerEmail: andrzej.oles at gmail.com