Package: DynDoc Version: 1.70.0 Command: rm -rf DynDoc.buildbin-libdir && mkdir DynDoc.buildbin-libdir && /Users/biocbuild/BBS/utils/build-universal.sh DynDoc_1.70.0.tar.gz /Library/Frameworks/R.framework/Versions/Current/Resources/bin/R DynDoc.buildbin-libdir StartedAt: 2021-10-15 02:16:12 -0400 (Fri, 15 Oct 2021) EndedAt: 2021-10-15 02:17:12 -0400 (Fri, 15 Oct 2021) EllapsedTime: 59.6 seconds RetCode: 0 Status: OK PackageFile: DynDoc_1.70.0.tgz PackageFileSize: 209.1 KiB