Package: Director Version: 1.18.0 Command: /home/biocbuild/bbs-3.13-bioc/R/bin/R CMD INSTALL Director StartedAt: 2021-10-14 06:04:23 -0400 (Thu, 14 Oct 2021) EndedAt: 2021-10-14 06:04:32 -0400 (Thu, 14 Oct 2021) EllapsedTime: 8.9 seconds RetCode: 0 Status: OK