Package: DiffLogo Version: 2.16.0 Command: C:\cygwin\bin\curl.exe -O http://155.52.207.165/BBS/3.13/bioc/src/contrib/DiffLogo_2.16.0.tar.gz && rm -rf DiffLogo.buildbin-libdir && mkdir DiffLogo.buildbin-libdir && C:\Users\biocbuild\bbs-3.13-bioc\R\bin\R.exe CMD INSTALL --merge-multiarch --build --library=DiffLogo.buildbin-libdir DiffLogo_2.16.0.tar.gz && C:\Users\biocbuild\bbs-3.13-bioc\R\bin\R.exe CMD INSTALL DiffLogo_2.16.0.zip && rm DiffLogo_2.16.0.tar.gz DiffLogo_2.16.0.zip StartedAt: 2021-10-14 07:13:56 -0400 (Thu, 14 Oct 2021) EndedAt: 2021-10-14 07:14:50 -0400 (Thu, 14 Oct 2021) EllapsedTime: 53.5 seconds RetCode: 0 Status: OK