Package: DiffLogo Version: 2.16.0 Command: /Library/Frameworks/R.framework/Versions/Current/Resources/bin/R CMD build --keep-empty-dirs --no-resave-data DiffLogo StartedAt: 2021-10-14 11:44:00 -0400 (Thu, 14 Oct 2021) EndedAt: 2021-10-14 11:45:08 -0400 (Thu, 14 Oct 2021) EllapsedTime: 67.4 seconds RetCode: 0 Status: OK PackageFile: DiffLogo_2.16.0.tar.gz PackageFileSize: 858.7 KiB