Package: DiffBind Version: 3.2.7 Command: /home/biocbuild/bbs-3.13-bioc/R/bin/R CMD INSTALL DiffBind StartedAt: 2021-10-14 06:27:31 -0400 (Thu, 14 Oct 2021) EndedAt: 2021-10-14 06:28:50 -0400 (Thu, 14 Oct 2021) EllapsedTime: 78.7 seconds RetCode: 0 Status: OK