Package: DelayedRandomArray Version: 1.0.0 Command: /home/biocbuild/bbs-3.13-bioc/R/bin/R CMD build --keep-empty-dirs --no-resave-data DelayedRandomArray StartedAt: 2021-10-14 07:06:30 -0400 (Thu, 14 Oct 2021) EndedAt: 2021-10-14 07:07:11 -0400 (Thu, 14 Oct 2021) EllapsedTime: 41.2 seconds RetCode: 0 Status: OK PackageFile: DelayedRandomArray_1.0.0.tar.gz PackageFileSize: 303.5 KiB