Package: DegNorm Version: 1.2.0 Command: /home/biocbuild/bbs-3.13-bioc/R/bin/R CMD check --install=check:DegNorm.install-out.txt --library=/home/biocbuild/bbs-3.13-bioc/R/library --no-vignettes --timings DegNorm_1.2.0.tar.gz StartedAt: 2021-10-14 09:30:59 -0400 (Thu, 14 Oct 2021) EndedAt: 2021-10-14 09:36:34 -0400 (Thu, 14 Oct 2021) EllapsedTime: 335.8 seconds RetCode: 0 Status: OK CheckDir: DegNorm.Rcheck Warnings: 0