Package: DeepPINCS Version: 1.0.2 Command: /home/biocbuild/bbs-3.13-bioc/R/bin/R CMD build --keep-empty-dirs --no-resave-data DeepPINCS StartedAt: 2021-10-14 07:05:51 -0400 (Thu, 14 Oct 2021) EndedAt: 2021-10-14 07:08:19 -0400 (Thu, 14 Oct 2021) EllapsedTime: 148.1 seconds RetCode: 0 Status: OK PackageFile: DeepPINCS_1.0.2.tar.gz PackageFileSize: 3.085 MiB