Package: DeepPINCS Version: 1.0.2 Command: rm -rf DeepPINCS.buildbin-libdir && mkdir DeepPINCS.buildbin-libdir && /Users/biocbuild/BBS/utils/build-universal.sh DeepPINCS_1.0.2.tar.gz /Library/Frameworks/R.framework/Versions/Current/Resources/bin/R DeepPINCS.buildbin-libdir StartedAt: 2021-10-15 02:09:16 -0400 (Fri, 15 Oct 2021) EndedAt: 2021-10-15 02:10:28 -0400 (Fri, 15 Oct 2021) EllapsedTime: 71.5 seconds RetCode: 0 Status: OK PackageFile: DeepPINCS_1.0.2.tgz PackageFileSize: 2.883 MiB