Package: DeconRNASeq Version: 1.34.0 Command: C:\Users\biocbuild\bbs-3.13-bioc\R\bin\R.exe --arch x64 CMD INSTALL --no-multiarch DeconRNASeq StartedAt: 2021-10-14 08:20:51 -0400 (Thu, 14 Oct 2021) EndedAt: 2021-10-14 08:21:45 -0400 (Thu, 14 Oct 2021) EllapsedTime: 54.1 seconds RetCode: 0 Status: OK