Package: DeconRNASeq Version: 1.34.0 Command: chmod a+r DeconRNASeq -R && C:\Users\biocbuild\bbs-3.13-bioc\R\bin\R.exe --arch x64 CMD build --keep-empty-dirs --no-resave-data DeconRNASeq StartedAt: 2021-10-14 13:17:11 -0400 (Thu, 14 Oct 2021) EndedAt: 2021-10-14 13:17:28 -0400 (Thu, 14 Oct 2021) EllapsedTime: 17.0 seconds RetCode: 0 Status: OK PackageFile: DeconRNASeq_1.34.0.tar.gz PackageFileSize: 6.588 MiB