Package: DeMAND Version: 1.22.0 Command: /home/biocbuild/bbs-3.13-bioc/R/bin/R CMD check --install=check:DeMAND.install-out.txt --library=/home/biocbuild/bbs-3.13-bioc/R/library --no-vignettes --timings DeMAND_1.22.0.tar.gz StartedAt: 2021-10-14 09:32:58 -0400 (Thu, 14 Oct 2021) EndedAt: 2021-10-14 09:33:15 -0400 (Thu, 14 Oct 2021) EllapsedTime: 17.1 seconds RetCode: 0 Status: OK CheckDir: DeMAND.Rcheck Warnings: 0