Package: DTA Version: 2.38.0 Command: rm -rf DTA.buildbin-libdir && mkdir DTA.buildbin-libdir && C:\Users\biocbuild\bbs-3.13-bioc\R\bin\R.exe CMD INSTALL --merge-multiarch --build --library=DTA.buildbin-libdir DTA_2.38.0.tar.gz StartedAt: 2021-10-15 09:04:38 -0400 (Fri, 15 Oct 2021) EndedAt: 2021-10-15 09:05:49 -0400 (Fri, 15 Oct 2021) EllapsedTime: 71.5 seconds RetCode: 0 Status: OK PackageFile: DTA_2.38.0.zip PackageFileSize: 11.63 MiB