Package: DSS Version: 2.40.0 Command: C:\Users\biocbuild\bbs-3.13-bioc\R\bin\R.exe CMD check --force-multiarch --install=check:DSS.install-out.txt --library=C:\Users\biocbuild\bbs-3.13-bioc\R\library --no-vignettes --timings DSS_2.40.0.tar.gz StartedAt: 2021-10-14 22:34:29 -0400 (Thu, 14 Oct 2021) EndedAt: 2021-10-14 22:40:05 -0400 (Thu, 14 Oct 2021) EllapsedTime: 336.2 seconds RetCode: 0 Status: WARNINGS CheckDir: DSS.Rcheck Warnings: 1