Package: DSS Version: 2.40.0 Command: rm -rf DSS.buildbin-libdir && mkdir DSS.buildbin-libdir && C:\Users\biocbuild\bbs-3.13-bioc\R\bin\R.exe CMD INSTALL --merge-multiarch --build --library=DSS.buildbin-libdir DSS_2.40.0.tar.gz StartedAt: 2021-10-15 09:04:28 -0400 (Fri, 15 Oct 2021) EndedAt: 2021-10-15 09:05:41 -0400 (Fri, 15 Oct 2021) EllapsedTime: 72.1 seconds RetCode: 0 Status: OK PackageFile: DSS_2.40.0.zip PackageFileSize: 1.642 MiB