Package: DOSE Version: 3.18.3 Command: /home/biocbuild/bbs-3.13-bioc/R/bin/R CMD build --keep-empty-dirs --no-resave-data DOSE StartedAt: 2021-10-14 07:09:57 -0400 (Thu, 14 Oct 2021) EndedAt: 2021-10-14 07:10:32 -0400 (Thu, 14 Oct 2021) EllapsedTime: 35.4 seconds RetCode: 0 Status: OK PackageFile: DOSE_3.18.3.tar.gz PackageFileSize: 6.05 MiB