Package: DNAshapeR Version: 1.20.0 Command: /home/biocbuild/bbs-3.13-bioc/R/bin/R CMD build --keep-empty-dirs --no-resave-data DNAshapeR StartedAt: 2021-10-14 07:09:33 -0400 (Thu, 14 Oct 2021) EndedAt: 2021-10-14 07:10:48 -0400 (Thu, 14 Oct 2021) EllapsedTime: 74.6 seconds RetCode: 0 Status: OK PackageFile: DNAshapeR_1.20.0.tar.gz PackageFileSize: 1.076 MiB