Package: DNAshapeR Version: 1.20.0 Command: /Library/Frameworks/R.framework/Versions/Current/Resources/bin/R CMD build --keep-empty-dirs --no-resave-data DNAshapeR StartedAt: 2021-10-14 11:47:45 -0400 (Thu, 14 Oct 2021) EndedAt: 2021-10-14 11:49:37 -0400 (Thu, 14 Oct 2021) EllapsedTime: 112.1 seconds RetCode: 0 Status: OK PackageFile: DNAshapeR_1.20.0.tar.gz PackageFileSize: 1.076 MiB