Package: DNABarcodeCompatibility Version: 1.8.0 Command: /Library/Frameworks/R.framework/Versions/Current/Resources/bin/R CMD build --keep-empty-dirs --no-resave-data DNABarcodeCompatibility StartedAt: 2021-10-14 11:47:04 -0400 (Thu, 14 Oct 2021) EndedAt: 2021-10-14 11:48:21 -0400 (Thu, 14 Oct 2021) EllapsedTime: 76.8 seconds RetCode: 0 Status: OK PackageFile: DNABarcodeCompatibility_1.8.0.tar.gz PackageFileSize: 248.9 KiB