Package: DMRcate Version: 2.6.0 Command: /Library/Frameworks/R.framework/Versions/Current/Resources/bin/R CMD build --keep-empty-dirs --no-resave-data DMRcate StartedAt: 2021-10-14 11:46:13 -0400 (Thu, 14 Oct 2021) EndedAt: 2021-10-14 12:08:53 -0400 (Thu, 14 Oct 2021) EllapsedTime: 1360.4 seconds RetCode: 0 Status: OK PackageFile: DMRcate_2.6.0.tar.gz PackageFileSize: 360.8 KiB