Package: DMRcaller Version: 1.24.0 Command: /home/biocbuild/bbs-3.13-bioc/R/bin/R CMD check --install=check:DMRcaller.install-out.txt --library=/home/biocbuild/bbs-3.13-bioc/R/library --no-vignettes --timings DMRcaller_1.24.0.tar.gz StartedAt: 2021-10-14 09:36:52 -0400 (Thu, 14 Oct 2021) EndedAt: 2021-10-14 09:40:43 -0400 (Thu, 14 Oct 2021) EllapsedTime: 231.1 seconds RetCode: 0 Status: OK CheckDir: DMRcaller.Rcheck Warnings: 0