Package: DMCFB
Version: 1.6.0
Command: /home/biocbuild/bbs-3.13-bioc/R/bin/R CMD INSTALL DMCFB
StartedAt: 2021-10-14 06:27:42 -0400 (Thu, 14 Oct 2021)
EndedAt: 2021-10-14 06:28:13 -0400 (Thu, 14 Oct 2021)
EllapsedTime: 31.4 seconds
RetCode: 0
Status: OK