Package: DIAlignR Version: 2.0.0 Command: C:\cygwin\bin\curl.exe -O http://155.52.207.165/BBS/3.13/bioc/src/contrib/DIAlignR_2.0.0.tar.gz && rm -rf DIAlignR.buildbin-libdir && mkdir DIAlignR.buildbin-libdir && C:\Users\biocbuild\bbs-3.13-bioc\R\bin\R.exe CMD INSTALL --merge-multiarch --build --library=DIAlignR.buildbin-libdir DIAlignR_2.0.0.tar.gz && C:\Users\biocbuild\bbs-3.13-bioc\R\bin\R.exe CMD INSTALL DIAlignR_2.0.0.zip && rm DIAlignR_2.0.0.tar.gz DIAlignR_2.0.0.zip StartedAt: 2021-10-14 09:32:36 -0400 (Thu, 14 Oct 2021) EndedAt: 2021-10-14 09:36:13 -0400 (Thu, 14 Oct 2021) EllapsedTime: 216.9 seconds RetCode: 0 Status: OK