Package: DIAlignR Version: 2.0.0 Command: C:\Users\biocbuild\bbs-3.13-bioc\R\bin\R.exe CMD check --force-multiarch --install=check:DIAlignR.install-out.txt --library=C:\Users\biocbuild\bbs-3.13-bioc\R\library --no-vignettes --timings DIAlignR_2.0.0.tar.gz StartedAt: 2021-10-14 22:15:59 -0400 (Thu, 14 Oct 2021) EndedAt: 2021-10-14 22:20:40 -0400 (Thu, 14 Oct 2021) EllapsedTime: 280.7 seconds RetCode: 1 Status: ERROR CheckDir: DIAlignR.Rcheck Warnings: NA