Package: DIAlignR Version: 2.0.0 Command: chmod a+r DIAlignR -R && C:\Users\biocbuild\bbs-3.13-bioc\R\bin\R.exe CMD build --keep-empty-dirs --no-resave-data DIAlignR StartedAt: 2021-10-14 13:27:13 -0400 (Thu, 14 Oct 2021) EndedAt: 2021-10-14 13:28:51 -0400 (Thu, 14 Oct 2021) EllapsedTime: 98.2 seconds RetCode: 0 Status: OK PackageFile: DIAlignR_2.0.0.tar.gz PackageFileSize: 3.367 MiB