Package: DIAlignR Version: 2.0.0 Command: rm -rf DIAlignR.buildbin-libdir && mkdir DIAlignR.buildbin-libdir && C:\Users\biocbuild\bbs-3.13-bioc\R\bin\R.exe CMD INSTALL --merge-multiarch --build --library=DIAlignR.buildbin-libdir DIAlignR_2.0.0.tar.gz StartedAt: 2021-10-15 08:58:27 -0400 (Fri, 15 Oct 2021) EndedAt: 2021-10-15 09:01:14 -0400 (Fri, 15 Oct 2021) EllapsedTime: 166.5 seconds RetCode: 0 Status: OK PackageFile: DIAlignR_2.0.0.zip PackageFileSize: 4.838 MiB