Package: DIAlignR Version: 2.0.0 Command: rm -rf DIAlignR.buildbin-libdir && mkdir DIAlignR.buildbin-libdir && /Users/biocbuild/BBS/utils/build-universal.sh DIAlignR_2.0.0.tar.gz /Library/Frameworks/R.framework/Versions/Current/Resources/bin/R DIAlignR.buildbin-libdir StartedAt: 2021-10-15 02:11:53 -0400 (Fri, 15 Oct 2021) EndedAt: 2021-10-15 02:14:03 -0400 (Fri, 15 Oct 2021) EllapsedTime: 130.0 seconds RetCode: 0 Status: OK PackageFile: DIAlignR_2.0.0.tgz PackageFileSize: 4.126 MiB